BEGIN:VCALENDAR
VERSION:2.0
PRODID:-//eventon.com NONSGML v1.0//EN
CALSCALE:GREGORIAN
METHOD:PUBLISH
BEGIN:VEVENT
UID:69e91e7aefc24
DTSTAMP:20260422T191610Z
DTSTART:20260501T230000Z
DTEND:20260502T010000Z
LOCATION:Great Lakes Museum
SUMMARY:Unearthing Lake Ontario’s Untouched Shipwreck
DESCRIPTION:Deep beneath Lake Ontario&#8217;s cold\,  dark water lies a shi
 pwreck\,  whose discovery took the world by storm… Join Heison Chak as he
  tells the incredible tale of discovering an untouched shipwreck just off T
 oronto&#8217;s shore! This amazing discovery made headlines across Canada a
 nd around the world. Experts believe it&#8217;s a[..]\nhttps://artskingston
 .ca/events/unearthing-lake-ontarios-untouched-shipwreck/
URL:https://artskingston.ca/events/unearthing-lake-ontarios-untouched-shipwreck/
END:VEVENT
END:VCALENDAR