BEGIN:VCALENDAR
VERSION:2.0
PRODID:-//eventon.com NONSGML v1.0//EN
CALSCALE:GREGORIAN
METHOD:PUBLISH
BEGIN:VEVENT
UID:69e91cc5184d4
DTSTAMP:20260422T190853Z
DTSTART:20260608T230000Z
DTEND:20260714T000000Z
LOCATION:
SUMMARY:Virtual Poetry Circle for Teens (5 Sessions)
DESCRIPTION:Virtual Poetry Circle for Teens- 5 sessions offered by Kingston
 -based poet and instructor Barbara Lorraine Laing (PhD\,  OCT) April 27th t
 o June 1st (no class May 18) 7- 8pm Max. 12 participants\,  Ages 14 to 17 R
 egister by April 17th for Early Bird discount $149 (Regular Cost $189 per p
 articipant)[..]\nhttps://artskingston.ca/events/virtual-poetry-circle-for-t
 eens-5-sessions/var/ri-6.l-L1
URL:https://artskingston.ca/events/virtual-poetry-circle-for-teens-5-sessions/var/ri-6.l-L1
END:VEVENT
END:VCALENDAR