BEGIN:VCALENDAR
VERSION:2.0
PRODID:-//eventon.com NONSGML v1.0//EN
CALSCALE:GREGORIAN
METHOD:PUBLISH
BEGIN:VEVENT
UID:69e91d3c3ec91
DTSTAMP:20260422T191052Z
DTSTART:20260504T143000Z
DTEND:20260505T035900Z
LOCATION:https://www.picnicandpencil.com/workshops
SUMMARY:Poetry Pop-Ups!
DESCRIPTION:Do you have a poem-in-progress that you would like some feedbac
 k on? Would you like it to be heard\,  and see what pops up? Getting a poem
  ready for an open mic or publication? This month I&#8217;m offering brief 
 20-minute virtual consultations where we can talk about a poem you[..]\nhtt
 ps://artskingston.ca/events/poetry-pop-ups/var/event_access
URL:https://artskingston.ca/events/poetry-pop-ups/var/event_access
END:VEVENT
END:VCALENDAR