BEGIN:VCALENDAR
VERSION:2.0
PRODID:-//eventon.com NONSGML v1.0//EN
CALSCALE:GREGORIAN
METHOD:PUBLISH
BEGIN:VEVENT
UID:69e91b80ece14
DTSTAMP:20260422T190328Z
DTSTART:20260427T143000Z
DTEND:20260428T035900Z
LOCATION:https://www.picnicandpencil.com/workshops
SUMMARY:Poetry Pop-Ups!
DESCRIPTION:Do you have a poem-in-progress that you would like some feedbac
 k on? Would you like it to be heard\,  and see what pops up? Getting a poem
  ready for an open mic or publication? This month I&#8217;m offering brief 
 20-minute virtual consultations where we can talk about a poem you[..]\nhtt
 ps://artskingston.ca/events/poetry-pop-ups/var/event_access
URL:https://artskingston.ca/events/poetry-pop-ups/var/event_access
END:VEVENT
END:VCALENDAR