BEGIN:VCALENDAR
VERSION:2.0
PRODID:-//eventon.com NONSGML v1.0//EN
CALSCALE:GREGORIAN
METHOD:PUBLISH
BEGIN:VEVENT
UID:69e6ad1ce921d
DTSTAMP:20260420T224756Z
DTSTART:20260507T220000Z
DTEND:20260508T000000Z
LOCATION:Tett Centre for Creativity &amp; Learning
SUMMARY:Paint Without (Over)Thinking: Mindful Abstract Exploration
DESCRIPTION:Join meditation instructor Jay Vidyarthi and abstract painting 
 facilitator Jean Jamieson-Hanes for a guided creative session that blends m
 indfulness with playful art-making. This workshop invites participants to e
 xplore abstract painting with joy and freedom\,  focusing on gesture\,  tex
 ture\,  and movement rather than outcome or representation. Guided meditati
 ons and creative prompts[..]\nhttps://artskingston.ca/events/paint-without-
 overthinking-mindful-abstract-exploration/
URL:https://artskingston.ca/events/paint-without-overthinking-mindful-abstract-exploration/
END:VEVENT
END:VCALENDAR