BEGIN:VCALENDAR
VERSION:2.0
PRODID:-//eventon.com NONSGML v1.0//EN
CALSCALE:GREGORIAN
METHOD:PUBLISH
BEGIN:VEVENT
UID:69e89d8fe6976
DTSTAMP:20260422T100607Z
DTSTART:20260425T170000Z
DTEND:20260425T210000Z
LOCATION:County Arts Lab Unit 2E\,  206 Main Street\,  Picton\,  ON K0K 2T0\,  Canada
SUMMARY:Making Artwork Safe Inclusive: Structural & Accessibility Considerations for Public Art w/ Victoria Taylor
DESCRIPTION:Join landscape architect Victoria Taylor to understand and disc
 uss the essential technical requirements for public art installation. You w
 ill gain a practical understanding of how to structurally support freestand
 ing artworks without wall supports\,  as well as how to ensure these instal
 lations are safe and accessible to the public.\nhttps://artskingston.ca/eve
 nts/making-artwork-safe-inclusive-structural-accessibility-considerations-f
 or-public-art-w-victoria-taylor/
URL:https://artskingston.ca/events/making-artwork-safe-inclusive-structural-accessibility-considerations-for-public-art-w-victoria-taylor/
END:VEVENT
END:VCALENDAR