BEGIN:VCALENDAR
VERSION:2.0
PRODID:-//eventon.com NONSGML v1.0//EN
CALSCALE:GREGORIAN
METHOD:PUBLISH
BEGIN:VEVENT
UID:69e89d8fe90c4
DTSTAMP:20260422T100607Z
DTSTART:20260509T170000Z
DTEND:20260509T210000Z
LOCATION:County Arts Lab Unit 2E\,  206 Main Street\,  Picton\,  ON K0K 2T0\,  Canada
SUMMARY:Murals Workshop: From Concept to Wall with Jamie Janx Johnston
DESCRIPTION:In this hands-on workshop\,  join artist Jamie Janx Johnston to
  learn all about murals from the design process to the final wall. Jamiewil
 l define the various roles and complexities in the world of mural productio
 n. Participants will acquire the problem solving skills to address every an
 gle of mural production\,  including[..]\nhttps://artskingston.ca/events/pu
 blic-art-workshop-series-murals-from-concept-to-wall-w-jamie-janx-johnston/
URL:https://artskingston.ca/events/public-art-workshop-series-murals-from-concept-to-wall-w-jamie-janx-johnston/
END:VEVENT
END:VCALENDAR