BEGIN:VCALENDAR
VERSION:2.0
PRODID:-//eventon.com NONSGML v1.0//EN
CALSCALE:GREGORIAN
METHOD:PUBLISH
BEGIN:VEVENT
UID:69e7fee756ff0
DTSTAMP:20260421T224911Z
DTSTART:20260508T211500Z
DTEND:20260508T230000Z
LOCATION:St James Church
SUMMARY:Baroque Celebration Feast Concert
DESCRIPTION:The Kingston Baroque Consort presents the final concert in its 
 fifth season\,  “Baroque Celebration Feast!”\,  on Friday 8 May\,  5:15
 pm at St. James Church (10 Union St\,  Kingston). The highlight of the spec
 tacular season finale will be the great Brandenburg Concerto No. 4 by J.S. 
 Bach\,  along with the Prelude[..]\nhttps://artskingston.ca/events/baroque-
 celebration-feast/
URL:https://artskingston.ca/events/baroque-celebration-feast/
END:VEVENT
END:VCALENDAR