BEGIN:VCALENDAR
VERSION:2.0
PRODID:-//eventon.com NONSGML v1.0//EN
CALSCALE:GREGORIAN
METHOD:PUBLISH
BEGIN:VEVENT
UID:69e91bc734ce0
DTSTAMP:20260422T190439Z
DTSTART:20260424T140000Z
DTEND:20260424T150000Z
LOCATION:Cultivate Art Commons
SUMMARY:Meditation in the Gallery with Jay Vidyarthi
DESCRIPTION:Join us for a guided meditation that invites you to experience 
 art slowly\,  openly\,  and with fresh attention. Led by mindfulness facili
 tator Jay Vidyarthi\,  this session offers a gentle way to connect with the
  artworks at Cultivate Art Commons through presence\,  curiosity\,  and ref
 lection. After a brief introduction\,  participants will[..]\nhttps://artsk
 ingston.ca/events/meditation-in-the-gallery-with-jay-vidyarthi/
URL:https://artskingston.ca/events/meditation-in-the-gallery-with-jay-vidyarthi/
END:VEVENT
END:VCALENDAR