BEGIN:VCALENDAR
VERSION:2.0
PRODID:-//eventon.com NONSGML v1.0//EN
CALSCALE:GREGORIAN
METHOD:PUBLISH
BEGIN:VEVENT
UID:69e6ae51005ea
DTSTAMP:20260420T225305Z
DTSTART:20260503T140000Z
DTEND:20260503T180000Z
LOCATION:Cultivate Art Commons
SUMMARY:M(other)’s Day Market
DESCRIPTION:Join Cultivate Art Commons and the Women&#8217;s Art Festival f
 or a M(other)&#8217;s Day Market on Sunday\,  May 3rd from 10am &#8211; 2pm
  at Cultivate Art Commons (formerly Modern Fuel Artist-Run Centre). This vi
 brant market offers a unique opportunity to support local artists and maker
 s—come shop and celebrate creativity within our[..]\nhttps://artskingston
 .ca/events/mothers-day-market/
URL:https://artskingston.ca/events/mothers-day-market/
END:VEVENT
END:VCALENDAR