BEGIN:VCALENDAR
VERSION:2.0
PRODID:-//eventon.com NONSGML v1.0//EN
CALSCALE:GREGORIAN
METHOD:PUBLISH
BEGIN:VEVENT
UID:69e6b05351a86
DTSTAMP:20260420T230139Z
DTSTART:20260430T200000Z
DTEND:20260501T035900Z
LOCATION:Rehearsal Hall\,  Tett Centre for Creativity and Learning
SUMMARY:Kingston Potters' Guild Spring Pottery Sale
DESCRIPTION:Searching for a special Mother&#8217;s Day gift or a unique tre
 at for yourself? The Spring Kingston Potters&#8217; Guild sale from April 3
 0 to May 3 in the Rehearsal Hall at the Tett Centre features hundreds and h
 undreds of one-of-a-kind ceramic pieces. Created by members of the Kingston
  Potters&#8217; Guild\,  the[..]\nhttps://artskingston.ca/events/kingston-p
 otters-guild-spring-pottery-sale/
URL:https://artskingston.ca/events/kingston-potters-guild-spring-pottery-sale/
END:VEVENT
END:VCALENDAR