BEGIN:VCALENDAR
VERSION:2.0
PRODID:-//eventon.com NONSGML v1.0//EN
CALSCALE:GREGORIAN
METHOD:PUBLISH
BEGIN:VEVENT
UID:69e6ade1e420e
DTSTAMP:20260420T225113Z
DTSTART:20260423T220000Z
DTEND:20260424T035900Z
LOCATION:The Spire
SUMMARY:The Hobbit Choir Performance
DESCRIPTION:Over 140 children and youth voices take the stage as Cantabile 
 brings J.R.R. Tolkien’s beloved tale The Hobbit to life. This fast-paced 
 children’s opera is a rollicking adventure packed with perilous creatures
 \,  a mysterious Ring\,  and the unforgettable roar of the fire-breathing d
 ragon\,  Smaug! Journey alongside Bilbo Baggins from the[..]\nhttps://artsk
 ingston.ca/events/the-hobbit/
URL:https://artskingston.ca/events/the-hobbit/
END:VEVENT
END:VCALENDAR