BEGIN:VCALENDAR
VERSION:2.0
PRODID:-//eventon.com NONSGML v1.0//EN
CALSCALE:GREGORIAN
METHOD:PUBLISH
BEGIN:VEVENT
UID:69e6b46f128e0
DTSTAMP:20260420T231911Z
DTSTART:20260425T220000Z
DTEND:20260426T035900Z
LOCATION:Something in the Water
SUMMARY:(19+) A Birthday 4 BeeWitched
DESCRIPTION:BeeWitched is beckoning you to return to her lair to celebrate 
 her 4th annual birthday show\,  the one that started it all! Expect a mix o
 f emotions\,  fun\,  creativity and insanity all night long with a talented
  cast of performers&#8230; Simone Says (@itssimonesays) Sundae Mourning LLC
  (@sundaemourningllc) Yuni Verse (@yuniverse.ca)[..]\nhttps://artskingston.
 ca/events/19-a-birthday-4-beewitched/
URL:https://artskingston.ca/events/19-a-birthday-4-beewitched/
END:VEVENT
END:VCALENDAR