BEGIN:VCALENDAR
VERSION:2.0
PRODID:-//eventon.com NONSGML v1.0//EN
CALSCALE:GREGORIAN
METHOD:PUBLISH
BEGIN:VEVENT
UID:69e6ad378bf9b
DTSTAMP:20260420T224823Z
DTSTART:20260421T223000Z
DTEND:20260422T035900Z
LOCATION:Isabel Bader Centre for the Performing Arts
SUMMARY:Both Sides Now Performance
DESCRIPTION:Both Sides Now presented by H’art Centre in Partnership with 
 PeerLess Productions Directed by Kathryn MacKay Choreography by Menka Nagra
 ni\,  Melissa Mahady Wilton\,  Abigail Sheppard\,  Thomas Cherney Video Des
 ign by Jesse MacMillan and Anna Sudac Lighting Design by Jerall Li Original
  Music and Sound Design by David Archibald and David[..]\nhttps://artskings
 ton.ca/events/both-sides-now/
URL:https://artskingston.ca/events/both-sides-now/
END:VEVENT
END:VCALENDAR