BEGIN:VCALENDAR
VERSION:2.0
PRODID:-//eventon.com NONSGML v1.0//EN
CALSCALE:GREGORIAN
METHOD:PUBLISH
BEGIN:VEVENT
UID:69e6b019d7d37
DTSTAMP:20260420T230041Z
DTSTART:20260425
DTEND:20260426
LOCATION:St. John's Hall
SUMMARY:Bath Artisans Spring Show 2026
DESCRIPTION:There are 17 artists taking part\,  to bring you a varied selec
 tion of paintings in oil\,  acrylic\,  watercolour and mixed media. There a
 re also Artisans who create turned wood\,  photography\,  hand made cards\,
   hand painted alcohol ink tiles\,  jewelry and more. There is something fo
 r every taste and every budget.[..]\nhttps://artskingston.ca/events/bath-ar
 tisans-spring-show-2026/
URL:https://artskingston.ca/events/bath-artisans-spring-show-2026/
END:VEVENT
END:VCALENDAR