BEGIN:VCALENDAR
VERSION:2.0
PRODID:-//eventon.com NONSGML v1.0//EN
CALSCALE:GREGORIAN
METHOD:PUBLISH
BEGIN:VEVENT
UID:69e6b18500367
DTSTAMP:20260420T230645Z
DTSTART:20260607
DTEND:20260608
LOCATION:NATIONAL GALLERY OF CANADA AND THE CANADIAN CONSERVATION INSTITUTE
SUMMARY:OTTAWA ARTS TRIP  A visit to the CANADIAN CONSERVATION INSTITUTE & the NATIONAL GALLERY OF CANADA
DESCRIPTION:OTTAWA ART TRIP ITINERARY SATURDAY JUNE 6 \,  2026 7:15 am depa
 rture Park in the Cataraqui Centre 8:30 pm return arrival at the Mall “
  “” Cost $100.00 Includes all entry fees &#038; coach Mid-Size Coach M
 cCoy Bus Lines Our 2025 fleet of 34-passenger Mid-Size Coaches is designed 
 for comfort[..]\nhttps://artskingston.ca/events/ottawa-arts-trip-a-visit-to
 -the-canadian-conservation-institute-the-national-gallery-of-canada/
URL:https://artskingston.ca/events/ottawa-arts-trip-a-visit-to-the-canadian-conservation-institute-the-national-gallery-of-canada/
END:VEVENT
END:VCALENDAR