BEGIN:VCALENDAR
VERSION:2.0
PRODID:-//eventon.com NONSGML v1.0//EN
CALSCALE:GREGORIAN
METHOD:PUBLISH
BEGIN:VEVENT
UID:69e6ae8532bcc
DTSTAMP:20260420T225357Z
DTSTART:20260425
DTEND:20260426
LOCATION:St. John's Hall
SUMMARY:Bath Artisans Spring Art Show
DESCRIPTION:Bath Artisans Spring art show\,  free parking\,  wheelchair acc
 essible.\nhttps://artskingston.ca/events/bath-artisans-spring-art-show/
URL:https://artskingston.ca/events/bath-artisans-spring-art-show/
END:VEVENT
END:VCALENDAR