BEGIN:VCALENDAR
VERSION:2.0
PRODID:-//eventon.com NONSGML v1.0//EN
CALSCALE:GREGORIAN
METHOD:PUBLISH
BEGIN:VEVENT
UID:69e4c9d8431f2
DTSTAMP:20260419T122600Z
DTSTART:20260424T230000Z
DTEND:20260425T010000Z
LOCATION:Broom Factory
SUMMARY:Jane Siberry Live at the Broom Factory
DESCRIPTION:KPP Concerts presents: JANE SIBERRY Live at the Broom Factory o
 n April 24\,  2026 Friday\,  April 24\,  2026 JANE SIBERRY Broom Factory\, 
  Kingston 7pm doors // 7:30-9pm show // All Ages // Seated Tickets $37.50 a
 dvance\nhttps://artskingston.ca/events/jane-siberry/
URL:https://artskingston.ca/events/jane-siberry/
END:VEVENT
END:VCALENDAR